BEGIN:VCALENDAR
VERSION:2.0
PRODID:-//No Longer Bound Prevention &amp; Training Services, Inc. - ECPv6.15.20//NONSGML v1.0//EN
CALSCALE:GREGORIAN
METHOD:PUBLISH
X-WR-CALNAME:No Longer Bound Prevention &amp; Training Services, Inc.
X-ORIGINAL-URL:https://nolongerboundpa.org
X-WR-CALDESC:Events for No Longer Bound Prevention &amp; Training Services, Inc.
REFRESH-INTERVAL;VALUE=DURATION:PT1H
X-Robots-Tag:noindex
X-PUBLISHED-TTL:PT1H
BEGIN:VTIMEZONE
TZID:America/New_York
BEGIN:DAYLIGHT
TZOFFSETFROM:-0500
TZOFFSETTO:-0400
TZNAME:EDT
DTSTART:20160313T070000
END:DAYLIGHT
BEGIN:STANDARD
TZOFFSETFROM:-0400
TZOFFSETTO:-0500
TZNAME:EST
DTSTART:20161106T060000
END:STANDARD
BEGIN:DAYLIGHT
TZOFFSETFROM:-0500
TZOFFSETTO:-0400
TZNAME:EDT
DTSTART:20170312T070000
END:DAYLIGHT
BEGIN:STANDARD
TZOFFSETFROM:-0400
TZOFFSETTO:-0500
TZNAME:EST
DTSTART:20171105T060000
END:STANDARD
BEGIN:DAYLIGHT
TZOFFSETFROM:-0500
TZOFFSETTO:-0400
TZNAME:EDT
DTSTART:20180311T070000
END:DAYLIGHT
BEGIN:STANDARD
TZOFFSETFROM:-0400
TZOFFSETTO:-0500
TZNAME:EST
DTSTART:20181104T060000
END:STANDARD
BEGIN:DAYLIGHT
TZOFFSETFROM:-0500
TZOFFSETTO:-0400
TZNAME:EDT
DTSTART:20190310T070000
END:DAYLIGHT
BEGIN:STANDARD
TZOFFSETFROM:-0400
TZOFFSETTO:-0500
TZNAME:EST
DTSTART:20191103T060000
END:STANDARD
BEGIN:DAYLIGHT
TZOFFSETFROM:-0500
TZOFFSETTO:-0400
TZNAME:EDT
DTSTART:20200308T070000
END:DAYLIGHT
BEGIN:STANDARD
TZOFFSETFROM:-0400
TZOFFSETTO:-0500
TZNAME:EST
DTSTART:20201101T060000
END:STANDARD
BEGIN:DAYLIGHT
TZOFFSETFROM:-0500
TZOFFSETTO:-0400
TZNAME:EDT
DTSTART:20210314T070000
END:DAYLIGHT
BEGIN:STANDARD
TZOFFSETFROM:-0400
TZOFFSETTO:-0500
TZNAME:EST
DTSTART:20211107T060000
END:STANDARD
BEGIN:DAYLIGHT
TZOFFSETFROM:-0500
TZOFFSETTO:-0400
TZNAME:EDT
DTSTART:20220313T070000
END:DAYLIGHT
BEGIN:STANDARD
TZOFFSETFROM:-0400
TZOFFSETTO:-0500
TZNAME:EST
DTSTART:20221106T060000
END:STANDARD
BEGIN:DAYLIGHT
TZOFFSETFROM:-0500
TZOFFSETTO:-0400
TZNAME:EDT
DTSTART:20230312T070000
END:DAYLIGHT
BEGIN:STANDARD
TZOFFSETFROM:-0400
TZOFFSETTO:-0500
TZNAME:EST
DTSTART:20231105T060000
END:STANDARD
BEGIN:DAYLIGHT
TZOFFSETFROM:-0500
TZOFFSETTO:-0400
TZNAME:EDT
DTSTART:20240310T070000
END:DAYLIGHT
BEGIN:STANDARD
TZOFFSETFROM:-0400
TZOFFSETTO:-0500
TZNAME:EST
DTSTART:20241103T060000
END:STANDARD
BEGIN:DAYLIGHT
TZOFFSETFROM:-0500
TZOFFSETTO:-0400
TZNAME:EDT
DTSTART:20250309T070000
END:DAYLIGHT
BEGIN:STANDARD
TZOFFSETFROM:-0400
TZOFFSETTO:-0500
TZNAME:EST
DTSTART:20251102T060000
END:STANDARD
BEGIN:DAYLIGHT
TZOFFSETFROM:-0500
TZOFFSETTO:-0400
TZNAME:EDT
DTSTART:20260308T070000
END:DAYLIGHT
BEGIN:STANDARD
TZOFFSETFROM:-0400
TZOFFSETTO:-0500
TZNAME:EST
DTSTART:20261101T060000
END:STANDARD
BEGIN:DAYLIGHT
TZOFFSETFROM:-0500
TZOFFSETTO:-0400
TZNAME:EDT
DTSTART:20270314T070000
END:DAYLIGHT
BEGIN:STANDARD
TZOFFSETFROM:-0400
TZOFFSETTO:-0500
TZNAME:EST
DTSTART:20271107T060000
END:STANDARD
END:VTIMEZONE
BEGIN:VEVENT
DTSTART;TZID=America/New_York:20260207T113000
DTEND;TZID=America/New_York:20260207T143000
DTSTAMP:20260420T105013
CREATED:20251208T225807Z
LAST-MODIFIED:20251208T225807Z
UID:1875-1770463800-1770474600@nolongerboundpa.org
SUMMARY:Leadership Ambassador Program
DESCRIPTION:The LEADU Ambassador Program is a 12-week course that will help you identify your leadership style and give you the steps to carry it out in your everyday life.
URL:https://nolongerboundpa.org/event/leadership-ambassador-program-3/
LOCATION:Truman High School\, 3001 Green Lane\, Levittown\, PA\, 19057\, United States
CATEGORIES:Community Program
END:VEVENT
BEGIN:VEVENT
DTSTART;TZID=America/New_York:20260131T113000
DTEND;TZID=America/New_York:20260131T143000
DTSTAMP:20260420T105013
CREATED:20251208T225653Z
LAST-MODIFIED:20251208T225653Z
UID:1873-1769859000-1769869800@nolongerboundpa.org
SUMMARY:Leadership Ambassador Program
DESCRIPTION:The LEADU Ambassador Program is a 12-week course that will help you identify your leadership style and give you the steps to carry it out in your everyday life.
URL:https://nolongerboundpa.org/event/leadership-ambassador-program-2/
LOCATION:Truman High School\, 3001 Green Lane\, Levittown\, PA\, 19057\, United States
CATEGORIES:Community Program
END:VEVENT
BEGIN:VEVENT
DTSTART;TZID=America/New_York:20260124T113000
DTEND;TZID=America/New_York:20260124T143000
DTSTAMP:20260420T105013
CREATED:20251208T161446Z
LAST-MODIFIED:20251208T161446Z
UID:1869-1769254200-1769265000@nolongerboundpa.org
SUMMARY:Leadership Ambassador Program
DESCRIPTION:The LEADU Ambassador Program is a 12-week course that will help you identify your leadership style and give you the steps to carry it out in your everyday life.
URL:https://nolongerboundpa.org/event/leadership-ambassador-program/
LOCATION:Truman High School\, 3001 Green Lane\, Levittown\, PA\, 19057\, United States
CATEGORIES:Community Program
END:VEVENT
BEGIN:VEVENT
DTSTART;TZID=America/New_York:20251215T190000
DTEND;TZID=America/New_York:20251215T200000
DTSTAMP:20260420T105013
CREATED:20251120T230051Z
LAST-MODIFIED:20251120T230051Z
UID:1865-1765825200-1765828800@nolongerboundpa.org
SUMMARY:Community Connection
DESCRIPTION:Join us for open discussion\, encouragement\, and building stronger connections within our community.
URL:https://nolongerboundpa.org/event/community-connection-2/
LOCATION:Martha Miller Community Center\, 5616 Mitchell Rd\, Levittown\, PA\, 19057
CATEGORIES:Community Meeting
END:VEVENT
BEGIN:VEVENT
DTSTART;TZID=America/New_York:20251202T173000
DTEND;TZID=America/New_York:20251202T193000
DTSTAMP:20260420T105013
CREATED:20251111T001359Z
LAST-MODIFIED:20251111T001650Z
UID:1858-1764696600-1764703800@nolongerboundpa.org
SUMMARY:Brookwood Elementary Family Fun Night
DESCRIPTION:Enjoy an evening of math enrichment and a free meal with the Brookwood community!
URL:https://nolongerboundpa.org/event/brookwood-elementary-family-fun-night/
LOCATION:Brookwood Elementary School\, 2200 Haines Rd\, Levittown\, PA\, 19055\, United States
CATEGORIES:Family Event
END:VEVENT
BEGIN:VEVENT
DTSTART;TZID=America/New_York:20251122T140000
DTEND;TZID=America/New_York:20251122T160000
DTSTAMP:20260420T105013
CREATED:20251110T152318Z
LAST-MODIFIED:20251110T152318Z
UID:1845-1763820000-1763827200@nolongerboundpa.org
SUMMARY:Thanksgiving Basket Distribution
DESCRIPTION:Registered Families will come to pick up Thanksgiving Baskets. \nFor more information email: thomas@nolongerboundpa.org.
URL:https://nolongerboundpa.org/event/thanksgiving-basket-distribution/
LOCATION:Martha Miller Community Center\, 5616 Mitchell Rd\, Levittown\, PA\, 19057
END:VEVENT
BEGIN:VEVENT
DTSTART;TZID=America/New_York:20251115T150000
DTEND;TZID=America/New_York:20251115T170000
DTSTAMP:20260420T105013
CREATED:20251110T235649Z
LAST-MODIFIED:20251111T000809Z
UID:1854-1763218800-1763226000@nolongerboundpa.org
SUMMARY:COMMUNI-TEA Neighborhood Mixer
DESCRIPTION:Meet your neighbors at the Martha Miller Community Center!
URL:https://nolongerboundpa.org/event/communi-tea-neighborhood-mixer/
LOCATION:Martha Miller Community Center\, 5616 Mitchell Rd\, Levittown\, PA\, 19057
CATEGORIES:Community Meeting
END:VEVENT
BEGIN:VEVENT
DTSTART;TZID=America/New_York:20251113T173000
DTEND;TZID=America/New_York:20251113T193000
DTSTAMP:20260420T105013
CREATED:20251110T154325Z
LAST-MODIFIED:20251110T154506Z
UID:1848-1763055000-1763062200@nolongerboundpa.org
SUMMARY:Family Fun Night
DESCRIPTION:Enjoy an evening of math enrichment and a free meal with the Mill Creek community.
URL:https://nolongerboundpa.org/event/family-fun-night/
LOCATION:Millcreek Elementary School\, 6501 Mill Creek Road\, Levittown\, PA\, 19057\, United States
CATEGORIES:Family Event
END:VEVENT
BEGIN:VEVENT
DTSTART;TZID=America/New_York:20251020T190000
DTEND;TZID=America/New_York:20251020T200000
DTSTAMP:20260420T105013
CREATED:20250923T103935Z
LAST-MODIFIED:20250923T105841Z
UID:1838-1760986800-1760990400@nolongerboundpa.org
SUMMARY:Community Connection Meeting
DESCRIPTION:
URL:https://nolongerboundpa.org/event/community-connection/
LOCATION:Martha Miller Community Center\, 5616 Mitchell Rd\, Levittown\, PA\, 19057
CATEGORIES:Community Meeting
END:VEVENT
BEGIN:VEVENT
DTSTART;TZID=America/New_York:20250817T150000
DTEND;TZID=America/New_York:20250817T173000
DTSTAMP:20260420T105013
CREATED:20241012T153027Z
LAST-MODIFIED:20250217T005229Z
UID:1764-1755442800-1755451800@nolongerboundpa.org
SUMMARY:Back to School Community Event
DESCRIPTION:Join us for fun\, food and games and our kids get ready to go Back to School. \nWe will also have school supplies available. Supplies are limited. Child must be present.
URL:https://nolongerboundpa.org/event/back-to-school-community-event/
LOCATION:Martha Miller Community Center\, 5616 Mitchell Rd\, Levittown\, PA\, 19057
ATTACH;FMTTYPE=image/jpeg:https://nolongerboundpa.org/wp-content/uploads/2024/10/1-e1739753505780.jpg
END:VEVENT
BEGIN:VEVENT
DTSTART;TZID=America/New_York:20250805T173000
DTEND;TZID=America/New_York:20250805T200000
DTSTAMP:20260420T105013
CREATED:20241012T152409Z
LAST-MODIFIED:20250217T011726Z
UID:1759-1754415000-1754424000@nolongerboundpa.org
SUMMARY:National Night Out
DESCRIPTION:Join us for Bristol Borough’s 4th National Night Out.
URL:https://nolongerboundpa.org/event/national-night-out/
LOCATION:Snyder Girotti\, 420 Buckley Street\, Bristol\, PA\, 19007
CATEGORIES:Family Event
END:VEVENT
BEGIN:VEVENT
DTSTART;TZID=America/New_York:20250530T180000
DTEND;TZID=America/New_York:20250530T200000
DTSTAMP:20260420T105013
CREATED:20250217T004728Z
LAST-MODIFIED:20250217T011934Z
UID:1786-1748628000-1748635200@nolongerboundpa.org
SUMMARY:Struble Community Fair
DESCRIPTION:Join us for a evening of fun\, games\, and resources.
URL:https://nolongerboundpa.org/event/struble-community-fair/
LOCATION:Struble Elementary School\, 4300 Bensalem Blvd\, Bensalem\, PA\, 19020\, United States
CATEGORIES:Family Event
ATTACH;FMTTYPE=image/jpeg:https://nolongerboundpa.org/wp-content/uploads/2025/02/Community-Fair-2025-scaled-e1739753753523.jpg
END:VEVENT
BEGIN:VEVENT
DTSTART;TZID=America/New_York:20250426T100000
DTEND;TZID=America/New_York:20250426T140000
DTSTAMP:20260420T105013
CREATED:20250217T014736Z
LAST-MODIFIED:20250217T014736Z
UID:1805-1745661600-1745676000@nolongerboundpa.org
SUMMARY:Medication Take Back
DESCRIPTION:Save the Date for Medication Take Back. Drop off your unused\, expired or medication that’s not needed.
URL:https://nolongerboundpa.org/event/medication-take-back/
LOCATION:Bristol Twp Municipal Bldg\, 2501 Bath Road\, Bristol\, PA\, 19007
ATTACH;FMTTYPE=image/png:https://nolongerboundpa.org/wp-content/uploads/2025/02/takeback.png
END:VEVENT
BEGIN:VEVENT
DTSTART;TZID=America/New_York:20250406T160000
DTEND;TZID=America/New_York:20250406T190000
DTSTAMP:20260420T105013
CREATED:20250217T020734Z
LAST-MODIFIED:20250217T020734Z
UID:1816-1743955200-1743966000@nolongerboundpa.org
SUMMARY:MLK Teen Peace and Social Justice Summit
DESCRIPTION:
URL:https://nolongerboundpa.org/event/mlk-teen-peace-and-social-justice-summit/
LOCATION:William Tennent High School\, 333 Centennial Road\, Warminster\, PA\, 18974\, United States
ATTACH;FMTTYPE=application/pdf:https://nolongerboundpa.org/wp-content/uploads/2025/02/MLK-Summit-2025-rev.pdf
END:VEVENT
BEGIN:VEVENT
DTSTART;TZID=America/New_York:20250405T120000
DTEND;TZID=America/New_York:20250405T150000
DTSTAMP:20260420T105013
CREATED:20250217T021950Z
LAST-MODIFIED:20250217T021950Z
UID:1826-1743854400-1743865200@nolongerboundpa.org
SUMMARY:LEADU Teen Ambassador Program
DESCRIPTION:
URL:https://nolongerboundpa.org/event/leadu-teen-ambassador-program-7/
LOCATION:Truman High School\, 3001 Green Lane\, Levittown\, PA\, 19057\, United States
ATTACH;FMTTYPE=image/jpeg:https://nolongerboundpa.org/wp-content/uploads/2025/02/LEADU-Ambassador-Program-2025-2-1-e1739757293578.jpg
END:VEVENT
BEGIN:VEVENT
DTSTART;TZID=America/New_York:20250329T120000
DTEND;TZID=America/New_York:20250329T150000
DTSTAMP:20260420T105013
CREATED:20250217T021817Z
LAST-MODIFIED:20250217T021817Z
UID:1824-1743249600-1743260400@nolongerboundpa.org
SUMMARY:LEADU Teen Ambassador Program
DESCRIPTION:
URL:https://nolongerboundpa.org/event/leadu-teen-ambassador-program-6/
LOCATION:Truman High School\, 3001 Green Lane\, Levittown\, PA\, 19057\, United States
ATTACH;FMTTYPE=image/jpeg:https://nolongerboundpa.org/wp-content/uploads/2025/02/LEADU-Ambassador-Program-2025-2-1-e1739757293578.jpg
END:VEVENT
BEGIN:VEVENT
DTSTART;TZID=America/New_York:20250322T120000
DTEND;TZID=America/New_York:20250322T150000
DTSTAMP:20260420T105013
CREATED:20250217T021738Z
LAST-MODIFIED:20250217T021738Z
UID:1822-1742644800-1742655600@nolongerboundpa.org
SUMMARY:LEADU Teen Ambassador Program
DESCRIPTION:
URL:https://nolongerboundpa.org/event/leadu-teen-ambassador-program-5/
LOCATION:Truman High School\, 3001 Green Lane\, Levittown\, PA\, 19057\, United States
ATTACH;FMTTYPE=image/jpeg:https://nolongerboundpa.org/wp-content/uploads/2025/02/LEADU-Ambassador-Program-2025-2-1-e1739757293578.jpg
END:VEVENT
BEGIN:VEVENT
DTSTART;TZID=America/New_York:20250315T120000
DTEND;TZID=America/New_York:20250315T150000
DTSTAMP:20260420T105013
CREATED:20250217T021712Z
LAST-MODIFIED:20250217T021712Z
UID:1820-1742040000-1742050800@nolongerboundpa.org
SUMMARY:LEADU Teen Ambassador Program
DESCRIPTION:
URL:https://nolongerboundpa.org/event/leadu-teen-ambassador-program-4/
LOCATION:Truman High School\, 3001 Green Lane\, Levittown\, PA\, 19057\, United States
ATTACH;FMTTYPE=image/jpeg:https://nolongerboundpa.org/wp-content/uploads/2025/02/LEADU-Ambassador-Program-2025-2-1-e1739757293578.jpg
END:VEVENT
BEGIN:VEVENT
DTSTART;TZID=America/New_York:20250313T180000
DTEND;TZID=America/New_York:20250313T200000
DTSTAMP:20260420T105013
CREATED:20250217T011449Z
LAST-MODIFIED:20250217T021052Z
UID:1791-1741888800-1741896000@nolongerboundpa.org
SUMMARY:Bristol Township STEAM Night
DESCRIPTION:
URL:https://nolongerboundpa.org/event/bristol-township-steam-night/
LOCATION:Keystone Elementary School\, 1800 Keystone Elementary School\, Croydon\, PA\, 19021\, United States
CATEGORIES:Family Event
ATTACH;FMTTYPE=image/jpeg:https://nolongerboundpa.org/wp-content/uploads/2025/02/STEAM-Family-Engagement-Night-2025-1-e1739754718961.jpg
END:VEVENT
BEGIN:VEVENT
DTSTART;TZID=America/New_York:20250308T120000
DTEND;TZID=America/New_York:20250308T150000
DTSTAMP:20260420T105013
CREATED:20250217T015729Z
LAST-MODIFIED:20250217T015957Z
UID:1814-1741435200-1741446000@nolongerboundpa.org
SUMMARY:LEADU Teen Ambassador Program
DESCRIPTION:
URL:https://nolongerboundpa.org/event/leadu-teen-ambassador-program-3/
LOCATION:Truman High School\, 3001 Green Lane\, Levittown\, PA\, 19057\, United States
ATTACH;FMTTYPE=image/jpeg:https://nolongerboundpa.org/wp-content/uploads/2025/02/LEADU-Ambassador-Program-2025-2-1-e1739757293578.jpg
END:VEVENT
BEGIN:VEVENT
DTSTART;TZID=America/New_York:20250301T120000
DTEND;TZID=America/New_York:20250301T150000
DTSTAMP:20260420T105013
CREATED:20250217T015619Z
LAST-MODIFIED:20250217T015853Z
UID:1812-1740830400-1740841200@nolongerboundpa.org
SUMMARY:LEADU Teen Ambassador Program
DESCRIPTION:
URL:https://nolongerboundpa.org/event/leadu-teen-ambassador-program-2/
LOCATION:Martha Miller Community Center\, 5616 Mitchell Rd\, Levittown\, PA\, 19057
ATTACH;FMTTYPE=image/jpeg:https://nolongerboundpa.org/wp-content/uploads/2025/02/LEADU-Ambassador-Program-2025-2-1-e1739757293578.jpg
END:VEVENT
BEGIN:VEVENT
DTSTART;TZID=America/New_York:20250222T120000
DTEND;TZID=America/New_York:20250222T150000
DTSTAMP:20260420T105013
CREATED:20250217T015539Z
LAST-MODIFIED:20250217T015540Z
UID:1808-1740225600-1740236400@nolongerboundpa.org
SUMMARY:LEADU Teen Ambassador Program
DESCRIPTION:
URL:https://nolongerboundpa.org/event/leadu-teen-ambassador-program/
LOCATION:Truman High School\, 3001 Green Lane\, Levittown\, PA\, 19057\, United States
ATTACH;FMTTYPE=image/jpeg:https://nolongerboundpa.org/wp-content/uploads/2025/02/LEADU-Ambassador-Program-2025-2-1-e1739757293578.jpg
END:VEVENT
BEGIN:VEVENT
DTSTART;TZID=America/New_York:20241026T140000
DTEND;TZID=America/New_York:20241026T170000
DTSTAMP:20260420T105013
CREATED:20241012T102831Z
LAST-MODIFIED:20241012T153124Z
UID:1725-1729951200-1729962000@nolongerboundpa.org
SUMMARY:Community Trunk or Treat
DESCRIPTION:Join us on October 26 from 2 to 5pm for our annual Community Trunk or Treat. \nDonations are welcomed.
URL:https://nolongerboundpa.org/event/community-trunk-or-treat/
LOCATION:Martha Miller Community Center\, 5616 Mitchell Rd\, Levittown\, PA\, 19057
END:VEVENT
BEGIN:VEVENT
DTSTART;TZID=America/New_York:20180113T110000
DTEND;TZID=America/New_York:20180113T140000
DTSTAMP:20260420T105013
CREATED:20171026T232759Z
LAST-MODIFIED:20171026T232800Z
UID:403-1515841200-1515852000@nolongerboundpa.org
SUMMARY:Employment Expo
DESCRIPTION:  \n 
URL:https://nolongerboundpa.org/event/employment-expo/
LOCATION:Martha Miller Community Center\, 5616 Mitchell Rd\, Levittown\, PA\, 19057
ATTACH;FMTTYPE=image/png:https://nolongerboundpa.org/wp-content/uploads/2017/10/Screen-Shot-2017-10-26-at-7.26.57-PM.png
END:VEVENT
BEGIN:VEVENT
DTSTART;TZID=America/New_York:20171129T160000
DTEND;TZID=America/New_York:20171129T173000
DTSTAMP:20260420T105013
CREATED:20171105T152043Z
LAST-MODIFIED:20171105T152043Z
UID:505-1511971200-1511976600@nolongerboundpa.org
SUMMARY:Steps for Success
DESCRIPTION:The goal of working with girls at the critical ages of adolescence is to help them develop self-esteem\, life skills\, and positive motivations so that they are equipped with the tools to help them achieve their goals. Girls avoid getting into trouble as they physically and developmentally mature\, especially before and as they are entering their teenage years and high school. Specifically addressing the needs of girls in this age range fills a need for prevention. Sign up today!
URL:https://nolongerboundpa.org/event/steps-for-success-3/
LOCATION:Venice Ashby Community Center\, 5401 Beaver Damn RD\, Bristol\, PA\, 19007
END:VEVENT
BEGIN:VEVENT
DTSTART;TZID=America/New_York:20171128T180000
DTEND;TZID=America/New_York:20171128T200000
DTSTAMP:20260420T105013
CREATED:20171105T151149Z
LAST-MODIFIED:20171105T151149Z
UID:501-1511892000-1511899200@nolongerboundpa.org
SUMMARY:Intro to Theatre
DESCRIPTION:The purpose of Introduction to Theatre course is to increase students’ understanding\, appreciation\, and critical perceptions of the theatrical event. Lessons will focus on the elements of telling stories through acting\, and how observing their environment. Real life scenarios will be incorporated into the program to enhance the students’ experience.
URL:https://nolongerboundpa.org/event/intro-to-theatre-4/
LOCATION:Venice Ashby Community Center\, 5401 Beaver Damn RD\, Bristol\, PA\, 19007
END:VEVENT
BEGIN:VEVENT
DTSTART;VALUE=DATE:20171123
DTEND;VALUE=DATE:20171125
DTSTAMP:20260420T105013
CREATED:20171105T021335Z
LAST-MODIFIED:20171105T021633Z
UID:464-1511395200-1511567999@nolongerboundpa.org
SUMMARY:Closed
DESCRIPTION:
URL:https://nolongerboundpa.org/event/closed-2/
END:VEVENT
BEGIN:VEVENT
DTSTART;TZID=America/New_York:20171121T180000
DTEND;TZID=America/New_York:20171121T200000
DTSTAMP:20260420T105013
CREATED:20171105T151019Z
LAST-MODIFIED:20171105T151019Z
UID:499-1511287200-1511294400@nolongerboundpa.org
SUMMARY:Intro to Theatre
DESCRIPTION:The purpose of Introduction to Theatre course is to increase students’ understanding\, appreciation\, and critical perceptions of the theatrical event. Lessons will focus on the elements of telling stories through acting\, and how observing their environment. Real life scenarios will be incorporated into the program to enhance the students’ experience.
URL:https://nolongerboundpa.org/event/intro-to-theatre-3/
END:VEVENT
BEGIN:VEVENT
DTSTART;TZID=America/New_York:20171115T160000
DTEND;TZID=America/New_York:20171115T173000
DTSTAMP:20260420T105013
CREATED:20171105T151356Z
LAST-MODIFIED:20171105T151356Z
UID:503-1510761600-1510767000@nolongerboundpa.org
SUMMARY:Steps for Success
DESCRIPTION:The goal of working with girls at the critical ages of adolescence is to help them develop self-esteem\, life skills\, and positive motivations so that they are equipped with the tools to help them achieve their goals. Girls avoid getting into trouble as they physically and developmentally mature\, especially before and as they are entering their teenage years and high school. Specifically addressing the needs of girls in this age range fills a need for prevention. Sign up today!
URL:https://nolongerboundpa.org/event/steps-for-success-2/
LOCATION:Venice Ashby Community Center\, 5401 Beaver Damn RD\, Bristol\, PA\, 19007
END:VEVENT
BEGIN:VEVENT
DTSTART;TZID=America/New_York:20171114T180000
DTEND;TZID=America/New_York:20171114T200000
DTSTAMP:20260420T105013
CREATED:20171105T150929Z
LAST-MODIFIED:20171105T150929Z
UID:497-1510682400-1510689600@nolongerboundpa.org
SUMMARY:Intro to Theatre
DESCRIPTION:The purpose of Introduction to Theatre course is to increase students’ understanding\, appreciation\, and critical perceptions of the theatrical event. Lessons will focus on the elements of telling stories through acting\, and how observing their environment. Real life scenarios will be incorporated into the program to enhance the students’ experience.
URL:https://nolongerboundpa.org/event/intro-to-theatre-2/
END:VEVENT
END:VCALENDAR