BEGIN:VCALENDAR
VERSION:2.0
PRODID:-//No Longer Bound Prevention &amp; Training Services, Inc. - ECPv6.15.20//NONSGML v1.0//EN
CALSCALE:GREGORIAN
METHOD:PUBLISH
X-ORIGINAL-URL:https://nolongerboundpa.org
X-WR-CALDESC:Events for No Longer Bound Prevention &amp; Training Services, Inc.
REFRESH-INTERVAL;VALUE=DURATION:PT1H
X-Robots-Tag:noindex
X-PUBLISHED-TTL:PT1H
BEGIN:VTIMEZONE
TZID:America/New_York
BEGIN:DAYLIGHT
TZOFFSETFROM:-0500
TZOFFSETTO:-0400
TZNAME:EDT
DTSTART:20250309T070000
END:DAYLIGHT
BEGIN:STANDARD
TZOFFSETFROM:-0400
TZOFFSETTO:-0500
TZNAME:EST
DTSTART:20251102T060000
END:STANDARD
BEGIN:DAYLIGHT
TZOFFSETFROM:-0500
TZOFFSETTO:-0400
TZNAME:EDT
DTSTART:20260308T070000
END:DAYLIGHT
BEGIN:STANDARD
TZOFFSETFROM:-0400
TZOFFSETTO:-0500
TZNAME:EST
DTSTART:20261101T060000
END:STANDARD
BEGIN:DAYLIGHT
TZOFFSETFROM:-0500
TZOFFSETTO:-0400
TZNAME:EDT
DTSTART:20270314T070000
END:DAYLIGHT
BEGIN:STANDARD
TZOFFSETFROM:-0400
TZOFFSETTO:-0500
TZNAME:EST
DTSTART:20271107T060000
END:STANDARD
END:VTIMEZONE
BEGIN:VEVENT
DTSTART;TZID=America/New_York:20260804T173000
DTEND;TZID=America/New_York:20260804T200000
DTSTAMP:20260420T092437
CREATED:20251208T233749Z
LAST-MODIFIED:20251208T233749Z
UID:1889-1785864600-1785873600@nolongerboundpa.org
SUMMARY:National Night Out
DESCRIPTION:Join us for Bristol Borough’s 5th National Night Out.
URL:https://nolongerboundpa.org/event/national-night-out-2/
LOCATION:Snyder Girotti\, 420 Buckley Street\, Bristol\, PA\, 19007
CATEGORIES:Family Event
END:VEVENT
END:VCALENDAR