BEGIN:VCALENDAR
VERSION:2.0
PRODID:-//No Longer Bound Prevention &amp; Training Services, Inc. - ECPv6.15.20//NONSGML v1.0//EN
CALSCALE:GREGORIAN
METHOD:PUBLISH
X-WR-CALNAME:No Longer Bound Prevention &amp; Training Services, Inc.
X-ORIGINAL-URL:https://nolongerboundpa.org
X-WR-CALDESC:Events for No Longer Bound Prevention &amp; Training Services, Inc.
REFRESH-INTERVAL;VALUE=DURATION:PT1H
X-Robots-Tag:noindex
X-PUBLISHED-TTL:PT1H
BEGIN:VTIMEZONE
TZID:America/New_York
BEGIN:DAYLIGHT
TZOFFSETFROM:-0500
TZOFFSETTO:-0400
TZNAME:EDT
DTSTART:20160313T070000
END:DAYLIGHT
BEGIN:STANDARD
TZOFFSETFROM:-0400
TZOFFSETTO:-0500
TZNAME:EST
DTSTART:20161106T060000
END:STANDARD
BEGIN:DAYLIGHT
TZOFFSETFROM:-0500
TZOFFSETTO:-0400
TZNAME:EDT
DTSTART:20170312T070000
END:DAYLIGHT
BEGIN:STANDARD
TZOFFSETFROM:-0400
TZOFFSETTO:-0500
TZNAME:EST
DTSTART:20171105T060000
END:STANDARD
BEGIN:DAYLIGHT
TZOFFSETFROM:-0500
TZOFFSETTO:-0400
TZNAME:EDT
DTSTART:20180311T070000
END:DAYLIGHT
BEGIN:STANDARD
TZOFFSETFROM:-0400
TZOFFSETTO:-0500
TZNAME:EST
DTSTART:20181104T060000
END:STANDARD
BEGIN:DAYLIGHT
TZOFFSETFROM:-0500
TZOFFSETTO:-0400
TZNAME:EDT
DTSTART:20190310T070000
END:DAYLIGHT
BEGIN:STANDARD
TZOFFSETFROM:-0400
TZOFFSETTO:-0500
TZNAME:EST
DTSTART:20191103T060000
END:STANDARD
BEGIN:DAYLIGHT
TZOFFSETFROM:-0500
TZOFFSETTO:-0400
TZNAME:EDT
DTSTART:20200308T070000
END:DAYLIGHT
BEGIN:STANDARD
TZOFFSETFROM:-0400
TZOFFSETTO:-0500
TZNAME:EST
DTSTART:20201101T060000
END:STANDARD
BEGIN:DAYLIGHT
TZOFFSETFROM:-0500
TZOFFSETTO:-0400
TZNAME:EDT
DTSTART:20210314T070000
END:DAYLIGHT
BEGIN:STANDARD
TZOFFSETFROM:-0400
TZOFFSETTO:-0500
TZNAME:EST
DTSTART:20211107T060000
END:STANDARD
BEGIN:DAYLIGHT
TZOFFSETFROM:-0500
TZOFFSETTO:-0400
TZNAME:EDT
DTSTART:20220313T070000
END:DAYLIGHT
BEGIN:STANDARD
TZOFFSETFROM:-0400
TZOFFSETTO:-0500
TZNAME:EST
DTSTART:20221106T060000
END:STANDARD
BEGIN:DAYLIGHT
TZOFFSETFROM:-0500
TZOFFSETTO:-0400
TZNAME:EDT
DTSTART:20230312T070000
END:DAYLIGHT
BEGIN:STANDARD
TZOFFSETFROM:-0400
TZOFFSETTO:-0500
TZNAME:EST
DTSTART:20231105T060000
END:STANDARD
BEGIN:DAYLIGHT
TZOFFSETFROM:-0500
TZOFFSETTO:-0400
TZNAME:EDT
DTSTART:20240310T070000
END:DAYLIGHT
BEGIN:STANDARD
TZOFFSETFROM:-0400
TZOFFSETTO:-0500
TZNAME:EST
DTSTART:20241103T060000
END:STANDARD
BEGIN:DAYLIGHT
TZOFFSETFROM:-0500
TZOFFSETTO:-0400
TZNAME:EDT
DTSTART:20250309T070000
END:DAYLIGHT
BEGIN:STANDARD
TZOFFSETFROM:-0400
TZOFFSETTO:-0500
TZNAME:EST
DTSTART:20251102T060000
END:STANDARD
BEGIN:DAYLIGHT
TZOFFSETFROM:-0500
TZOFFSETTO:-0400
TZNAME:EDT
DTSTART:20260308T070000
END:DAYLIGHT
BEGIN:STANDARD
TZOFFSETFROM:-0400
TZOFFSETTO:-0500
TZNAME:EST
DTSTART:20261101T060000
END:STANDARD
END:VTIMEZONE
BEGIN:VEVENT
DTSTART;TZID=America/New_York:20250301T120000
DTEND;TZID=America/New_York:20250301T150000
DTSTAMP:20260420T140444
CREATED:20250217T015619Z
LAST-MODIFIED:20250217T015853Z
UID:1812-1740830400-1740841200@nolongerboundpa.org
SUMMARY:LEADU Teen Ambassador Program
DESCRIPTION:
URL:https://nolongerboundpa.org/event/leadu-teen-ambassador-program-2/
LOCATION:Martha Miller Community Center\, 5616 Mitchell Rd\, Levittown\, PA\, 19057
ATTACH;FMTTYPE=image/jpeg:https://nolongerboundpa.org/wp-content/uploads/2025/02/LEADU-Ambassador-Program-2025-2-1-e1739757293578.jpg
END:VEVENT
BEGIN:VEVENT
DTSTART;TZID=America/New_York:20250222T120000
DTEND;TZID=America/New_York:20250222T150000
DTSTAMP:20260420T140444
CREATED:20250217T015539Z
LAST-MODIFIED:20250217T015540Z
UID:1808-1740225600-1740236400@nolongerboundpa.org
SUMMARY:LEADU Teen Ambassador Program
DESCRIPTION:
URL:https://nolongerboundpa.org/event/leadu-teen-ambassador-program/
LOCATION:Truman High School\, 3001 Green Lane\, Levittown\, PA\, 19057\, United States
ATTACH;FMTTYPE=image/jpeg:https://nolongerboundpa.org/wp-content/uploads/2025/02/LEADU-Ambassador-Program-2025-2-1-e1739757293578.jpg
END:VEVENT
BEGIN:VEVENT
DTSTART;TZID=America/New_York:20241026T140000
DTEND;TZID=America/New_York:20241026T170000
DTSTAMP:20260420T140444
CREATED:20241012T102831Z
LAST-MODIFIED:20241012T153124Z
UID:1725-1729951200-1729962000@nolongerboundpa.org
SUMMARY:Community Trunk or Treat
DESCRIPTION:Join us on October 26 from 2 to 5pm for our annual Community Trunk or Treat. \nDonations are welcomed.
URL:https://nolongerboundpa.org/event/community-trunk-or-treat/
LOCATION:Martha Miller Community Center\, 5616 Mitchell Rd\, Levittown\, PA\, 19057
END:VEVENT
BEGIN:VEVENT
DTSTART;TZID=America/New_York:20180113T110000
DTEND;TZID=America/New_York:20180113T140000
DTSTAMP:20260420T140444
CREATED:20171026T232759Z
LAST-MODIFIED:20171026T232800Z
UID:403-1515841200-1515852000@nolongerboundpa.org
SUMMARY:Employment Expo
DESCRIPTION:  \n 
URL:https://nolongerboundpa.org/event/employment-expo/
LOCATION:Martha Miller Community Center\, 5616 Mitchell Rd\, Levittown\, PA\, 19057
ATTACH;FMTTYPE=image/png:https://nolongerboundpa.org/wp-content/uploads/2017/10/Screen-Shot-2017-10-26-at-7.26.57-PM.png
END:VEVENT
BEGIN:VEVENT
DTSTART;TZID=America/New_York:20171129T160000
DTEND;TZID=America/New_York:20171129T173000
DTSTAMP:20260420T140444
CREATED:20171105T152043Z
LAST-MODIFIED:20171105T152043Z
UID:505-1511971200-1511976600@nolongerboundpa.org
SUMMARY:Steps for Success
DESCRIPTION:The goal of working with girls at the critical ages of adolescence is to help them develop self-esteem\, life skills\, and positive motivations so that they are equipped with the tools to help them achieve their goals. Girls avoid getting into trouble as they physically and developmentally mature\, especially before and as they are entering their teenage years and high school. Specifically addressing the needs of girls in this age range fills a need for prevention. Sign up today!
URL:https://nolongerboundpa.org/event/steps-for-success-3/
LOCATION:Venice Ashby Community Center\, 5401 Beaver Damn RD\, Bristol\, PA\, 19007
END:VEVENT
BEGIN:VEVENT
DTSTART;TZID=America/New_York:20171128T180000
DTEND;TZID=America/New_York:20171128T200000
DTSTAMP:20260420T140444
CREATED:20171105T151149Z
LAST-MODIFIED:20171105T151149Z
UID:501-1511892000-1511899200@nolongerboundpa.org
SUMMARY:Intro to Theatre
DESCRIPTION:The purpose of Introduction to Theatre course is to increase students’ understanding\, appreciation\, and critical perceptions of the theatrical event. Lessons will focus on the elements of telling stories through acting\, and how observing their environment. Real life scenarios will be incorporated into the program to enhance the students’ experience.
URL:https://nolongerboundpa.org/event/intro-to-theatre-4/
LOCATION:Venice Ashby Community Center\, 5401 Beaver Damn RD\, Bristol\, PA\, 19007
END:VEVENT
BEGIN:VEVENT
DTSTART;VALUE=DATE:20171123
DTEND;VALUE=DATE:20171125
DTSTAMP:20260420T140444
CREATED:20171105T021335Z
LAST-MODIFIED:20171105T021633Z
UID:464-1511395200-1511567999@nolongerboundpa.org
SUMMARY:Closed
DESCRIPTION:
URL:https://nolongerboundpa.org/event/closed-2/
LOCATION:PA
END:VEVENT
BEGIN:VEVENT
DTSTART;TZID=America/New_York:20171121T180000
DTEND;TZID=America/New_York:20171121T200000
DTSTAMP:20260420T140444
CREATED:20171105T151019Z
LAST-MODIFIED:20171105T151019Z
UID:499-1511287200-1511294400@nolongerboundpa.org
SUMMARY:Intro to Theatre
DESCRIPTION:The purpose of Introduction to Theatre course is to increase students’ understanding\, appreciation\, and critical perceptions of the theatrical event. Lessons will focus on the elements of telling stories through acting\, and how observing their environment. Real life scenarios will be incorporated into the program to enhance the students’ experience.
URL:https://nolongerboundpa.org/event/intro-to-theatre-3/
LOCATION:PA
END:VEVENT
BEGIN:VEVENT
DTSTART;TZID=America/New_York:20171115T160000
DTEND;TZID=America/New_York:20171115T173000
DTSTAMP:20260420T140444
CREATED:20171105T151356Z
LAST-MODIFIED:20171105T151356Z
UID:503-1510761600-1510767000@nolongerboundpa.org
SUMMARY:Steps for Success
DESCRIPTION:The goal of working with girls at the critical ages of adolescence is to help them develop self-esteem\, life skills\, and positive motivations so that they are equipped with the tools to help them achieve their goals. Girls avoid getting into trouble as they physically and developmentally mature\, especially before and as they are entering their teenage years and high school. Specifically addressing the needs of girls in this age range fills a need for prevention. Sign up today!
URL:https://nolongerboundpa.org/event/steps-for-success-2/
LOCATION:Venice Ashby Community Center\, 5401 Beaver Damn RD\, Bristol\, PA\, 19007
END:VEVENT
BEGIN:VEVENT
DTSTART;TZID=America/New_York:20171114T180000
DTEND;TZID=America/New_York:20171114T200000
DTSTAMP:20260420T140444
CREATED:20171105T150929Z
LAST-MODIFIED:20171105T150929Z
UID:497-1510682400-1510689600@nolongerboundpa.org
SUMMARY:Intro to Theatre
DESCRIPTION:The purpose of Introduction to Theatre course is to increase students’ understanding\, appreciation\, and critical perceptions of the theatrical event. Lessons will focus on the elements of telling stories through acting\, and how observing their environment. Real life scenarios will be incorporated into the program to enhance the students’ experience.
URL:https://nolongerboundpa.org/event/intro-to-theatre-2/
LOCATION:PA
END:VEVENT
BEGIN:VEVENT
DTSTART;TZID=America/New_York:20171108T160000
DTEND;TZID=America/New_York:20171108T173000
DTSTAMP:20260420T140444
CREATED:20171105T020827Z
LAST-MODIFIED:20171105T151443Z
UID:459-1510156800-1510162200@nolongerboundpa.org
SUMMARY:Steps for Success
DESCRIPTION:The goal of working with girls at the critical ages of adolescence is to help them develop self-esteem\, life skills\, and positive motivations so that they are equipped with the tools to help them achieve their goals. Girls avoid getting into trouble as they physically and developmentally mature\, especially before and as they are entering their teenage years and high school. Specifically addressing the needs of girls in this age range fills a need for prevention. Sign up today!
URL:https://nolongerboundpa.org/event/steps-for-success/
LOCATION:Venice Ashby Community Center\, 5401 Beaver Damn RD\, Bristol\, PA\, 19007
END:VEVENT
BEGIN:VEVENT
DTSTART;TZID=America/New_York:20171107T180000
DTEND;TZID=America/New_York:20171107T200000
DTSTAMP:20260420T140444
CREATED:20171105T150833Z
LAST-MODIFIED:20171105T150833Z
UID:495-1510077600-1510084800@nolongerboundpa.org
SUMMARY:Intro to Theatre
DESCRIPTION:The purpose of Introduction to Theatre course is to increase students’ understanding\, appreciation\, and critical perceptions of the theatrical event. Lessons will focus on the elements of telling stories through acting\, and how observing their environment. Real life scenarios will be incorporated into the program to enhance the students’ experience.
URL:https://nolongerboundpa.org/event/intro-to-theatre/
LOCATION:Venice Ashby Community Center\, 5401 Beaver Damn RD\, Bristol\, PA\, 19007
END:VEVENT
BEGIN:VEVENT
DTSTART;TZID=America/New_York:20171104T100000
DTEND;TZID=America/New_York:20171104T100000
DTSTAMP:20260420T140444
CREATED:20171102T150223Z
LAST-MODIFIED:20171102T150223Z
UID:441-1509789600-1509789600@nolongerboundpa.org
SUMMARY:M.A.D.D
DESCRIPTION:
URL:https://nolongerboundpa.org/event/m-a-d-d/
LOCATION:PA
ATTACH;FMTTYPE=application/pdf:https://nolongerboundpa.org/wp-content/uploads/2017/11/Power-of-Youth-Flyer.pdf
END:VEVENT
END:VCALENDAR